BEGIN:VCALENDAR
VERSION:2.0
PRODID:icalendar-ruby
CALSCALE:GREGORIAN
METHOD:PUBLISH
BEGIN:VEVENT
DTSTAMP:20260426T004111Z
UID:2149702908
DTSTART:20260501T083000Z
DTEND:20260501T103000Z
CLASS:PUBLIC
DESCRIPTION:Self\, Time\, and Light: The Three Phases of the Path to Buddha
 hood
LOCATION:Belfast Free Library / https://www.trikapath.com/programs-in-maine
ORGANIZER;CN=:mailto:
SEQUENCE:1777164071
STATUS:CONFIRMED
SUMMARY:Self\, Time\, and Light: The Three Phases of the Path to Buddhahood
END:VEVENT
END:VCALENDAR
