BEGIN:VCALENDAR
VERSION:2.0
PRODID:icalendar-ruby
CALSCALE:GREGORIAN
METHOD:PUBLISH
BEGIN:VEVENT
DTSTAMP:20260426T003508Z
UID:2149703181
DTSTART:20260605T203000Z
DTEND:20260605T223000Z
CLASS:PUBLIC
DESCRIPTION:The Three Enlightened Aspects of Our Buddha Nature: Body\, Ener
 gy\, and Mind
LOCATION:Belfast Free Library / https://www.trikapath.com/programs-in-maine
ORGANIZER;CN=:mailto:
SEQUENCE:1777163708
STATUS:CONFIRMED
SUMMARY:The Three Enlightened Aspects of Our Buddha Nature: Body\, Energy\,
  and Mind
END:VEVENT
END:VCALENDAR
