BEGIN:VCALENDAR
VERSION:2.0
PRODID:icalendar-ruby
CALSCALE:GREGORIAN
METHOD:PUBLISH
BEGIN:VEVENT
DTSTAMP:20260426T003600Z
UID:2149703185
DTSTART:20260807T203000Z
DTEND:20260807T223000Z
CLASS:PUBLIC
DESCRIPTION:The Yogi’s Essential Habits for a Longer Life
LOCATION:TBA: https://www.trikapath.com/programs-in-maine
ORGANIZER;CN=:mailto:
SEQUENCE:1777163760
STATUS:CONFIRMED
SUMMARY:The Yogi’s Essential Habits for a Longer Life
END:VEVENT
END:VCALENDAR
