BEGIN:VCALENDAR
VERSION:2.0
PRODID:icalendar-ruby
CALSCALE:GREGORIAN
METHOD:PUBLISH
BEGIN:VEVENT
DTSTAMP:20260426T004121Z
UID:2149703188
DTSTART:20260911T203000Z
DTEND:20260911T223000Z
CLASS:PUBLIC
DESCRIPTION:The Final Awakening:  Enlightenment through Death
LOCATION:TBA: https://www.trikapath.com/programs-in-maine
ORGANIZER;CN=:mailto:
SEQUENCE:1777164081
STATUS:CONFIRMED
SUMMARY:The Final Awakening:  Enlightenment through Death
END:VEVENT
END:VCALENDAR
